BEGIN:VCALENDAR
VERSION:2.0
PRODID:-//https://we-uocc.ca//NONSGML kigkonsult.se iCalcreator 2.41.92//
CALSCALE:GREGORIAN
METHOD:PUBLISH
UID:32343730-6164-4036-b634-643436306664
X-WR-CALNAME:JCal Pro Calendar
X-WR-CALDESC:Your online events calendar
X-WR-TIMEZONE:America/Edmonton
BEGIN:VTIMEZONE
TZID:America/Edmonton
TZUNTIL:20271107T080000Z
BEGIN:STANDARD
TZNAME:MST
DTSTART:20251102T020000
TZOFFSETFROM:-0600
TZOFFSETTO:-0700
RDATE:20261101T020000
END:STANDARD
BEGIN:DAYLIGHT
TZNAME:MDT
DTSTART:20260308T020000
TZOFFSETFROM:-0700
TZOFFSETTO:-0600
RDATE:20270314T020000
END:DAYLIGHT
END:VTIMEZONE
BEGIN:VEVENT
UID:20260419T113000UTC-2533mvsGBm@https://www.we-uocc.ca/
DTSTAMP:20260425T022619Z
CATEGORIES:Alberta
DESCRIPTION:<p>Provody - Two Hills - Following Liturgy</p>
DTSTART;TZID=America/Edmonton:20260419T100000
DTEND;TZID=America/Edmonton:20260419T110000
SUMMARY:Two Hills Divine Liturgy | Provody
URL:https://we-uocc.ca/index.php/calendar/13-alberta/435-two-hills-divine-l
 iturgy-provody
X-ALT-DESC;FMTTYPE=TEXT/HTML:<p>Provody - Two Hills - Following Liturgy</p>
END:VEVENT
END:VCALENDAR
