BEGIN:VCALENDAR
VERSION:2.0
PRODID:-//https://we-uocc.ca//NONSGML kigkonsult.se iCalcreator 2.41.92//
CALSCALE:GREGORIAN
METHOD:PUBLISH
UID:62323262-6462-4663-a434-666434343733
X-WR-CALNAME:JCal Pro Calendar
X-WR-CALDESC:Your online events calendar
X-WR-TIMEZONE:America/Edmonton
BEGIN:VTIMEZONE
TZID:America/Edmonton
TZUNTIL:20271107T080000Z
BEGIN:STANDARD
TZNAME:MST
DTSTART:20251102T020000
TZOFFSETFROM:-0600
TZOFFSETTO:-0700
RDATE:20261101T020000
END:STANDARD
BEGIN:DAYLIGHT
TZNAME:MDT
DTSTART:20260308T020000
TZOFFSETFROM:-0700
TZOFFSETTO:-0600
RDATE:20270314T020000
END:DAYLIGHT
END:VTIMEZONE
BEGIN:VEVENT
UID:20260816T100000UTC-7129loJrOJ@https://www.we-uocc.ca/
DTSTAMP:20260425T040424Z
CATEGORIES:Alberta
DESCRIPTION:<p>[11<sup>th</sup> Sunday after Pentecost] @ <strong>Spedden</
 strong> 10am Divine Liturgy.</p>
DTSTART;TZID=America/Edmonton:20260816T100000
DTEND;TZID=America/Edmonton:20260816T110000
SUMMARY:Spedden Divine Liturgy
URL:https://we-uocc.ca/index.php/calendar/13-alberta/406-spedden-divine-lit
 urgy
X-ALT-DESC;FMTTYPE=TEXT/HTML:<p>[11<sup>th</sup> Sunday after Pentecost] @ 
 <strong>Spedden</strong> 10am Divine Liturgy.</p>
END:VEVENT
END:VCALENDAR
