BEGIN:VCALENDAR
VERSION:2.0
PRODID:-//https://we-uocc.ca//NONSGML kigkonsult.se iCalcreator 2.41.92//
CALSCALE:GREGORIAN
METHOD:PUBLISH
UID:38373932-3361-4838-b035-343762343566
X-WR-CALNAME:JCal Pro Calendar
X-WR-CALDESC:Your online events calendar
X-WR-TIMEZONE:America/Edmonton
BEGIN:VTIMEZONE
TZID:America/Edmonton
TZUNTIL:20271107T080000Z
BEGIN:STANDARD
TZNAME:MST
DTSTART:20251102T020000
TZOFFSETFROM:-0600
TZOFFSETTO:-0700
RDATE:20261101T020000
END:STANDARD
BEGIN:DAYLIGHT
TZNAME:MDT
DTSTART:20260308T020000
TZOFFSETFROM:-0700
TZOFFSETTO:-0600
RDATE:20270314T020000
END:DAYLIGHT
END:VTIMEZONE
BEGIN:VEVENT
UID:20260516T100000UTC-6166sztn5b@https://www.we-uocc.ca/
DTSTAMP:20260425T040444Z
CATEGORIES:Alberta
DESCRIPTION:<p>[5<sup>th</sup> Saturday after Pascha] @ <strong>Spedden </s
 trong>10am Divine Liturgy. Provody after service.</p>
DTSTART;TZID=America/Edmonton:20260516T100000
DTEND;TZID=America/Edmonton:20260516T110000
SUMMARY:Spedden Divine Liturgy | Provody
URL:https://we-uocc.ca/index.php/calendar/13-alberta/394-spedden-divine-lit
 urgy-provody
X-ALT-DESC;FMTTYPE=TEXT/HTML:<p>[5<sup>th</sup> Saturday after Pascha] @ <s
 trong>Spedden </strong>10am Divine Liturgy. Provody after service.</p>
END:VEVENT
END:VCALENDAR
