BEGIN:VCALENDAR
VERSION:2.0
PRODID:-//https://we-uocc.ca//NONSGML kigkonsult.se iCalcreator 2.41.92//
CALSCALE:GREGORIAN
METHOD:PUBLISH
UID:33636636-6638-4161-b661-623162633865
X-WR-CALNAME:JCal Pro Calendar
X-WR-CALDESC:Your online events calendar
X-WR-TIMEZONE:America/Edmonton
BEGIN:VTIMEZONE
TZID:America/Edmonton
TZUNTIL:20271107T080000Z
BEGIN:STANDARD
TZNAME:MST
DTSTART:20251102T020000
TZOFFSETFROM:-0600
TZOFFSETTO:-0700
RDATE:20261101T020000
END:STANDARD
BEGIN:DAYLIGHT
TZNAME:MDT
DTSTART:20260308T020000
TZOFFSETFROM:-0700
TZOFFSETTO:-0600
RDATE:20270314T020000
END:DAYLIGHT
END:VTIMEZONE
BEGIN:VEVENT
UID:20260308T160000UTC-9901ljSUWG@https://www.we-uocc.ca/
DTSTAMP:20260425T040425Z
CATEGORIES:Alberta
DESCRIPTION:<p>March 8 – Grassland Passia service at 4:00 pm</p>
DTSTART;TZID=America/Edmonton:20260308T160000
DTEND;TZID=America/Edmonton:20260308T170000
SUMMARY:Grassland Passia
URL:https://we-uocc.ca/index.php/calendar/13-alberta/326-grassland-passia
X-ALT-DESC;FMTTYPE=TEXT/HTML:<p>March 8 – Grassland Passia service at 4:00 
 pm</p>
END:VEVENT
END:VCALENDAR
