BEGIN:VCALENDAR
VERSION:2.0
PRODID:-//https://we-uocc.ca//NONSGML kigkonsult.se iCalcreator 2.41.92//
CALSCALE:GREGORIAN
METHOD:PUBLISH
UID:61366534-3035-4661-a465-626466323765
X-WR-CALNAME:JCal Pro Calendar
X-WR-CALDESC:Your online events calendar
X-WR-TIMEZONE:America/Edmonton
BEGIN:VTIMEZONE
TZID:America/Edmonton
TZUNTIL:20271107T080000Z
BEGIN:STANDARD
TZNAME:MST
DTSTART:20251102T020000
TZOFFSETFROM:-0600
TZOFFSETTO:-0700
RDATE:20261101T020000
END:STANDARD
BEGIN:DAYLIGHT
TZNAME:MDT
DTSTART:20260308T020000
TZOFFSETFROM:-0700
TZOFFSETTO:-0600
RDATE:20270314T020000
END:DAYLIGHT
END:VTIMEZONE
BEGIN:VEVENT
UID:20260222T093000UTC-9070HucF9H@https://www.we-uocc.ca/
DTSTAMP:20260425T040424Z
CATEGORIES:Alberta
DESCRIPTION:<p>February 22 - ( Forgiveness Sunday) Athabasca 9:30 am Confes
 sion 10:00 am Divine Liturgy. Athabasca 2:30 pm Forgiveness Vespers.</p>
DTSTART;TZID=America/Edmonton:20260222T093000
DTEND;TZID=America/Edmonton:20260222T103000
SUMMARY:Athabasca: Divine Liturgy
URL:https://we-uocc.ca/index.php/calendar/13-alberta/317-athabasca-divine-l
 iturgy
X-ALT-DESC;FMTTYPE=TEXT/HTML:<p>February 22 - ( Forgiveness Sunday) Athabas
 ca 9:30 am Confession 10:00 am Divine Liturgy. Athabasca 2:30 pm Forgivene
 ss Vespers.</p>
END:VEVENT
END:VCALENDAR
