BEGIN:VCALENDAR
VERSION:2.0
PRODID:-//https://we-uocc.ca//NONSGML kigkonsult.se iCalcreator 2.41.92//
CALSCALE:GREGORIAN
METHOD:PUBLISH
UID:39353339-6265-4332-a432-636132353932
X-WR-CALNAME:JCal Pro Calendar
X-WR-CALDESC:Your online events calendar
X-WR-TIMEZONE:America/Edmonton
BEGIN:VTIMEZONE
TZID:America/Edmonton
TZUNTIL:20271107T080000Z
BEGIN:STANDARD
TZNAME:MST
DTSTART:20251102T020000
TZOFFSETFROM:-0600
TZOFFSETTO:-0700
RDATE:20261101T020000
END:STANDARD
BEGIN:DAYLIGHT
TZNAME:MDT
DTSTART:20260308T020000
TZOFFSETFROM:-0700
TZOFFSETTO:-0600
RDATE:20270314T020000
END:DAYLIGHT
END:VTIMEZONE
BEGIN:VEVENT
UID:20260308T100000UTC-0866JKVnx6@https://www.we-uocc.ca/
DTSTAMP:20260425T040529Z
CATEGORIES:Alberta
DESCRIPTION:<p>Sunday\, March 8 - 2nd Sunday of Lent - St. Gregory Palamas 
 Divine Liturgy - Sts. Peter &amp\; Paul\, Nowa Bukowina @ 10AM</p>
DTSTART;TZID=America/Edmonton:20260308T100000
DTEND;TZID=America/Edmonton:20260308T110000
SUMMARY:Nowa Bukowina: Divine Liturgy
URL:https://we-uocc.ca/index.php/calendar/13-alberta/304-nowa-bukowina-divi
 ne-liturgy
X-ALT-DESC;FMTTYPE=TEXT/HTML:<p>Sunday\, March 8 - 2nd Sunday of Lent - St.
  Gregory Palamas Divine Liturgy - Sts. Peter &amp\; Paul\, Nowa Bukowina @
  10AM</p>
END:VEVENT
END:VCALENDAR
